BEGIN:VCALENDAR
VERSION:2.0
PRODID:-//SV Bayreuth 1921 e.V. - ECPv6.15.17.1//NONSGML v1.0//EN
CALSCALE:GREGORIAN
METHOD:PUBLISH
X-ORIGINAL-URL:https://svbayreuth.de
X-WR-CALDESC:Veranstaltungen für SV Bayreuth 1921 e.V.
REFRESH-INTERVAL;VALUE=DURATION:PT1H
X-Robots-Tag:noindex
X-PUBLISHED-TTL:PT1H
BEGIN:VTIMEZONE
TZID:Europe/Berlin
BEGIN:DAYLIGHT
TZOFFSETFROM:+0100
TZOFFSETTO:+0200
TZNAME:CEST
DTSTART:20210328T010000
END:DAYLIGHT
BEGIN:STANDARD
TZOFFSETFROM:+0200
TZOFFSETTO:+0100
TZNAME:CET
DTSTART:20211031T010000
END:STANDARD
BEGIN:DAYLIGHT
TZOFFSETFROM:+0100
TZOFFSETTO:+0200
TZNAME:CEST
DTSTART:20220327T010000
END:DAYLIGHT
BEGIN:STANDARD
TZOFFSETFROM:+0200
TZOFFSETTO:+0100
TZNAME:CET
DTSTART:20221030T010000
END:STANDARD
BEGIN:DAYLIGHT
TZOFFSETFROM:+0100
TZOFFSETTO:+0200
TZNAME:CEST
DTSTART:20230326T010000
END:DAYLIGHT
BEGIN:STANDARD
TZOFFSETFROM:+0200
TZOFFSETTO:+0100
TZNAME:CET
DTSTART:20231029T010000
END:STANDARD
END:VTIMEZONE
BEGIN:VEVENT
DTSTART;TZID=Europe/Berlin:20221113T000000
DTEND;TZID=Europe/Berlin:20221113T235959
DTSTAMP:20260420T102540
CREATED:20220923T065046Z
LAST-MODIFIED:20220923T065103Z
UID:11252-1668297600-1668383999@svbayreuth.de
SUMMARY:Schwimmen: DMSJ-Bezirksfinale in Bayreuth
DESCRIPTION:DMSJ-Bezirksfinale in Bayreuth
URL:https://svbayreuth.de/veranstaltung/schwimmen-dmsj-bezirksfinale-in-bayreuth/
CATEGORIES:Schwimmen
END:VEVENT
END:VCALENDAR