BEGIN:VCALENDAR
VERSION:2.0
PRODID:-//SV Bayreuth 1921 e.V. - ECPv6.15.20//NONSGML v1.0//EN
CALSCALE:GREGORIAN
METHOD:PUBLISH
X-ORIGINAL-URL:https://svbayreuth.de
X-WR-CALDESC:Veranstaltungen für SV Bayreuth 1921 e.V.
REFRESH-INTERVAL;VALUE=DURATION:PT1H
X-Robots-Tag:noindex
X-PUBLISHED-TTL:PT1H
BEGIN:VTIMEZONE
TZID:Europe/Berlin
BEGIN:DAYLIGHT
TZOFFSETFROM:+0100
TZOFFSETTO:+0200
TZNAME:CEST
DTSTART:20230326T010000
END:DAYLIGHT
BEGIN:STANDARD
TZOFFSETFROM:+0200
TZOFFSETTO:+0100
TZNAME:CET
DTSTART:20231029T010000
END:STANDARD
BEGIN:DAYLIGHT
TZOFFSETFROM:+0100
TZOFFSETTO:+0200
TZNAME:CEST
DTSTART:20240331T010000
END:DAYLIGHT
BEGIN:STANDARD
TZOFFSETFROM:+0200
TZOFFSETTO:+0100
TZNAME:CET
DTSTART:20241027T010000
END:STANDARD
BEGIN:DAYLIGHT
TZOFFSETFROM:+0100
TZOFFSETTO:+0200
TZNAME:CEST
DTSTART:20250330T010000
END:DAYLIGHT
BEGIN:STANDARD
TZOFFSETFROM:+0200
TZOFFSETTO:+0100
TZNAME:CET
DTSTART:20251026T010000
END:STANDARD
END:VTIMEZONE
BEGIN:VEVENT
DTSTART;TZID=Europe/Berlin:20241019T000000
DTEND;TZID=Europe/Berlin:20241020T235959
DTSTAMP:20260424T223157
CREATED:20240815T193049Z
LAST-MODIFIED:20240815T193050Z
UID:14363-1729296000-1729468799@svbayreuth.de
SUMMARY:Schwimmen: Bayerische Kurzbahnmeisterschaft
DESCRIPTION:
URL:https://svbayreuth.de/veranstaltung/schwimmen-bayerische-kurzbahnmeisterschaft/
CATEGORIES:Schwimmen
END:VEVENT
END:VCALENDAR