BEGIN:VCALENDAR
VERSION:2.0
PRODID:-//SV Bayreuth 1921 e.V. - ECPv6.15.20//NONSGML v1.0//EN
CALSCALE:GREGORIAN
METHOD:PUBLISH
X-ORIGINAL-URL:https://svbayreuth.de
X-WR-CALDESC:Veranstaltungen für SV Bayreuth 1921 e.V.
REFRESH-INTERVAL;VALUE=DURATION:PT1H
X-Robots-Tag:noindex
X-PUBLISHED-TTL:PT1H
BEGIN:VTIMEZONE
TZID:Europe/Berlin
BEGIN:DAYLIGHT
TZOFFSETFROM:+0100
TZOFFSETTO:+0200
TZNAME:CEST
DTSTART:20230326T010000
END:DAYLIGHT
BEGIN:STANDARD
TZOFFSETFROM:+0200
TZOFFSETTO:+0100
TZNAME:CET
DTSTART:20231029T010000
END:STANDARD
BEGIN:DAYLIGHT
TZOFFSETFROM:+0100
TZOFFSETTO:+0200
TZNAME:CEST
DTSTART:20240331T010000
END:DAYLIGHT
BEGIN:STANDARD
TZOFFSETFROM:+0200
TZOFFSETTO:+0100
TZNAME:CET
DTSTART:20241027T010000
END:STANDARD
BEGIN:DAYLIGHT
TZOFFSETFROM:+0100
TZOFFSETTO:+0200
TZNAME:CEST
DTSTART:20250330T010000
END:DAYLIGHT
BEGIN:STANDARD
TZOFFSETFROM:+0200
TZOFFSETTO:+0100
TZNAME:CET
DTSTART:20251026T010000
END:STANDARD
END:VTIMEZONE
BEGIN:VEVENT
DTSTART;TZID=Europe/Berlin:20240506T170000
DTEND;TZID=Europe/Berlin:20240506T183000
DTSTAMP:20260425T042123
CREATED:20240501T132605Z
LAST-MODIFIED:20240501T140201Z
UID:13580-1715014800-1715020200@svbayreuth.de
SUMMARY:Sprechstunde SVB-Vorstand
DESCRIPTION:ab dem Mai findet jeden ersten Montag im Monat von 17:00-18:30 die SVB-Vorstandssprechstunde im Foyer des SVB-Hallenbades statt. Beginn ist nächsten Montag 06.05.2024.
URL:https://svbayreuth.de/veranstaltung/sprechstunde-svb-vorstand/
CATEGORIES:Schwimmen,Verein,Masters,Kanu,Ski,Triathlon,Wasserspringen,Wasserball
END:VEVENT
BEGIN:VEVENT
DTSTART;TZID=Europe/Berlin:20240511T140000
DTEND;TZID=Europe/Berlin:20240511T170000
DTSTAMP:20260425T042123
CREATED:20240412T080758Z
LAST-MODIFIED:20240507T071315Z
UID:13378-1715436000-1715446800@svbayreuth.de
SUMMARY:Schwimmen: 5. vereinsinterner Kinderwettkampf
DESCRIPTION:Beginn 14:00 Uhr. \n\n\n\nBadeschluss 13:00 Uhr (Kassenschluss 12:00 Uhr). \n\n\n\nDie Anmeldung erfolgt intern über die Schwimmgruppen. \n\n\n\nWeitere Informationen werden über die einzelnen Schwimmgruppen verteilt. \n\n\n\nAb Seepferdchen 2-Gruppe.
URL:https://svbayreuth.de/veranstaltung/vereinsinterner-kinderwettkampf-2/
CATEGORIES:Schwimmen
END:VEVENT
BEGIN:VEVENT
DTSTART;TZID=Europe/Berlin:20240512T000000
DTEND;TZID=Europe/Berlin:20240512T235959
DTSTAMP:20260425T042123
CREATED:20240507T071226Z
LAST-MODIFIED:20240507T071227Z
UID:13604-1715472000-1715558399@svbayreuth.de
SUMMARY:Schwimmen: Qualifikationswettkampf 5\, 7.5\, 10 und 25 km
DESCRIPTION:Das Hallenbad bleibt geschlossen.
URL:https://svbayreuth.de/veranstaltung/schwimmen-qualifikationswettkampf-5-7-5-10-und-25-km/
CATEGORIES:Schwimmen
END:VEVENT
END:VCALENDAR